BEGIN:VCALENDAR
VERSION:2.0
BEGIN:VEVENT
DTSTAMP:20220824T093000
STATUS:CONFIRMED
UID:b9f6e099-3c46-4e7d-b26d-9989df588498
DTEND:20220824T173000
DTSTART:20220824T093000
SUMMARY:Revive Tech Asia
DESCRIPTION:為未來做好準備！ Revive Tech Asia 是一個為期 2 天的大型科技盛會，亦是香港今年首個實體Professional B2B Business Tech Show，將匯聚一眾科技巨頭公司及人才，分享各行各業於科技轉型的實戰經驗及心得，共同推動創新應用，釋放科技的真正力量。是次展覽以會議主導，涵蓋整個科技生態系統，包括Future of Work、Cloud Technologies &amp; Data Centre、Cybersecurity、Digital Commerce、Diversity &amp; Inclusion、Web3、AI &amp; Data等 12 個主題。<br />
<br />
這不僅僅是為 IT 專業人士舉辦的活動，更是為了所有想借助科技改善公司業務、提升競爭力的每個人而設的展覽，歡迎各界人士參加。
X-ALT-DESC;FMTTYPE=text/html:
LOCATION:亞洲國際博覽館 5
BEGIN:VALARM
TRIGGER:-PT15M
ACTION:DISPLAY
END:VALARM
TRANSP:OPAQUE
END:VEVENT
END:VCALENDAR
