BEGIN:VCALENDAR
VERSION:2.0
BEGIN:VEVENT
DTSTAMP:20230311T180000
STATUS:CONFIRMED
UID:c9282308-5f56-497c-a3bf-62b3c9792112
DTEND:20230311T180000
DTSTART:20230311T180000
SUMMARY:ITZY THE 1ST WORLD TOUR CHECKMATE HONG KONG
DESCRIPTION:Tickets of <b>ITZY THE 1ST WORLD TOUR &lt;CHECKMATE&gt; HONG KONG </b>were sold out on the first day of tickets sales!<b> </b>Due to overwhelming demand, Live Nation and Rolemodel Entertainment Group Limited (REG) announced that an extra show will be held on 12<sup> </sup>March 2023, in addition to the sold-out one on 11 March. <b>ITZY </b>will hold a total two shows at AsiaWorld-Expo, Hall 5 &amp; 7. Tickets of the additional show go on public sale starting Monday, 6 February 2023 onwards via Cityline. Tickets priced at HKD $1,799 (VIP), $1,099 and $699.<br />
<br />
The girl group from JYP Entertainment,<strong> ITZY</strong>, comprises of 5 members, YEJI, LIA, RYUJIN, CHAERYEONG and YUNA. <strong>ITZY</strong> represents the idol group, which each member possesses both good-looking appearance and great performance skills. They launched their first single<em> IT&rsquo;z Different</em> on 12 February 2019 together with their debut song &ldquo;DALLA DALLA&rdquo; and they smashed many records with their brilliant dancing and singing abilities. In these 3 years since their debut, they mark impressive achievements, earning more than 100 million views on YouTube with each of their 8 MVs.&nbsp;<br />
<br />
After kicking off their first world tour &quot;CHECKMATE&quot; in Seoul in August last year, <strong>ITZY </strong>has just started their Asian tour from Manila on 14 January 2023 after their North American tour. The Hong Kong show in March will be their first ever concert in Hong Kong, which will be a good chance to see the performances from their debut song &lsquo;DALLA DALLA&rdquo; to the latest released song &ldquo;CHESHIRE&rdquo;, all their hit songs on one stage. MIDZY (<strong>ITZY</strong>&#39;s official fan name) should not miss this opportunity to personally experience <strong>ITZY</strong>&rsquo;s charisma live on stage.
X-ALT-DESC;FMTTYPE=text/html:
LOCATION:AsiaWorld-Expo 57
BEGIN:VALARM
TRIGGER:-PT15M
ACTION:DISPLAY
END:VALARM
TRANSP:OPAQUE
END:VEVENT
END:VCALENDAR
