BEGIN:VCALENDAR
VERSION:2.0
BEGIN:VEVENT
DTSTAMP:20240706T190000
STATUS:CONFIRMED
UID:76932dd6-4ae9-4751-90ab-d40ce39a330d
DTEND:20240706T190000
DTSTART:20240706T190000
SUMMARY:IVE THE 1ST WORLD TOUR < SHOW WHAT I HAVE > IN HONG KONG
DESCRIPTION:
X-ALT-DESC;FMTTYPE=text/html:
LOCATION:AsiaWorld-Expo 1
BEGIN:VALARM
TRIGGER:-PT15M
ACTION:DISPLAY
END:VALARM
TRANSP:OPAQUE
END:VEVENT
END:VCALENDAR
