BEGIN:VCALENDAR
VERSION:2.0
BEGIN:VEVENT
DTSTAMP:20250614T193000
STATUS:CONFIRMED
UID:b3d8ef45-6bb8-4ce5-ad2d-e721369c6407
DTEND:20250614T193000
DTSTART:20250614T193000
SUMMARY:ayumi hamasaki Asia Tour 2025 A I am ayu -ep.Ⅱ-
DESCRIPTION:「ayumi hamasaki Asia Tour 2025 A&nbsp;I am ayu -ep.Ⅱ-」OFFICIALLY LAUNCHES‼<br />
Kicking off with a JAPAN performance on her debut anniversary, April 8✨<br />
<br />
Following the phenomenal success of「ayumi hamasaki ASIA TOUR 2024 A ～I am ayu～」that ignited fan frenzy across Asia last autumn💫<br />
&mdash;a tour that achieved&nbsp;instant sell-outs&nbsp;and&nbsp;shattered attendance records&nbsp;for overseas artists in multiple regions&mdash;<br />
the production now returns in 2025 with「I am ayu Episode Ⅱ」🔥⚡<br />
Featuring a &zwnj;completely upgraded stage design&zwnj;, &zwnj;reimagined setlist&zwnj;, and &zwnj;next-level special effects&zwnj;!<br />
Amid global calls from fans for an international tour revival, ayu declares:<br />
&zwnj;&quot;This year, we start from Japan.&quot;&zwnj;<br />
Marking the beginning of her overseas journey at LaLa arena TOKYO-BAY, let&#39;s unite to create a&nbsp;PINK OCEAN&nbsp;of support for Asia&#39;s eternal diva!
X-ALT-DESC;FMTTYPE=text/html:
LOCATION:AsiaWorld-Expo 1
BEGIN:VALARM
TRIGGER:-PT15M
ACTION:DISPLAY
END:VALARM
TRANSP:OPAQUE
END:VEVENT
END:VCALENDAR
