BEGIN:VCALENDAR
VERSION:2.0
BEGIN:VEVENT
DTSTAMP:20250725T200000
STATUS:CONFIRMED
UID:ac69fed9-42b7-417e-a604-4ccc0ba7e466
DTEND:20250725T200000
DTSTART:20250725T200000
SUMMARY:2025 LE SSERAFIM TOUR 'EASY CRAZY HOT' IN HONG KONG
DESCRIPTION:LE SSERAFIM wasn&#39;t tryna leave the party so another night of 2025 LE SSERAFIM TOUR &#39;EASY CRAZY HOT&#39; IN HONG KONG has been ADDED! Join in on the hot-n-fun, FEARNOT🥳<br />
<br />
𝟐𝟎𝟐𝟓 𝐋𝐄 𝐒𝐒𝐄𝐑𝐀𝐅𝐈𝐌 𝐓𝐎𝐔𝐑 &#39;𝐄𝐀𝐒𝐘 𝐂𝐑𝐀𝐙𝐘 𝐇𝐎𝐓&#39; 𝐈𝐍 𝐇𝐎𝐍𝐆 𝐊𝐎𝐍𝐆<br />
📆 2025.07.25 (FRI) 8PM (Local Time) 【ADDED】<br />
📆 2025.07.26 (SAT) 7PM (Local Time)<br />
📍 AsiaWorld-Arena<br />
<br />
🎫 𝐆𝐄𝐍𝐄𝐑𝐀𝐋 𝐎𝐍𝐒𝐀𝐋𝐄 🎫<br />
▶ 2025/05/16 (FRI) 11AM (Local Time) ~<br />
<br />
🔗 Ticketing Site: <a href="https://kktix.com">https://kktix.com</a>
X-ALT-DESC;FMTTYPE=text/html:
LOCATION:AsiaWorld-Expo 1
BEGIN:VALARM
TRIGGER:-PT15M
ACTION:DISPLAY
END:VALARM
TRANSP:OPAQUE
END:VEVENT
END:VCALENDAR
